BEGIN:VCALENDAR
VERSION:2.0
PRODID:-//DC Prep - ECPv6.15.14//NONSGML v1.0//EN
CALSCALE:GREGORIAN
METHOD:PUBLISH
X-ORIGINAL-URL:https://www.dcprep.org
X-WR-CALDESC:Events for DC Prep
REFRESH-INTERVAL;VALUE=DURATION:PT1H
X-Robots-Tag:noindex
X-PUBLISHED-TTL:PT1H
BEGIN:VTIMEZONE
TZID:America/New_York
BEGIN:DAYLIGHT
TZOFFSETFROM:-0500
TZOFFSETTO:-0400
TZNAME:EDT
DTSTART:20210314T070000
END:DAYLIGHT
BEGIN:STANDARD
TZOFFSETFROM:-0400
TZOFFSETTO:-0500
TZNAME:EST
DTSTART:20211107T060000
END:STANDARD
BEGIN:DAYLIGHT
TZOFFSETFROM:-0500
TZOFFSETTO:-0400
TZNAME:EDT
DTSTART:20220313T070000
END:DAYLIGHT
BEGIN:STANDARD
TZOFFSETFROM:-0400
TZOFFSETTO:-0500
TZNAME:EST
DTSTART:20221106T060000
END:STANDARD
BEGIN:DAYLIGHT
TZOFFSETFROM:-0500
TZOFFSETTO:-0400
TZNAME:EDT
DTSTART:20230312T070000
END:DAYLIGHT
BEGIN:STANDARD
TZOFFSETFROM:-0400
TZOFFSETTO:-0500
TZNAME:EST
DTSTART:20231105T060000
END:STANDARD
END:VTIMEZONE
BEGIN:VEVENT
DTSTART;VALUE=DATE:20221005
DTEND;VALUE=DATE:20221006
DTSTAMP:20260421T150249
CREATED:20220728T134810Z
LAST-MODIFIED:20220728T134810Z
UID:1967-1664928000-1665014399@www.dcprep.org
SUMMARY:Family-Student-Teacher Conferences
DESCRIPTION:
URL:https://www.dcprep.org/calendar/family-student-teacher-conferences-5/
CATEGORIES:Family Student Teacher Conferences
END:VEVENT
BEGIN:VEVENT
DTSTART;VALUE=DATE:20221007
DTEND;VALUE=DATE:20221008
DTSTAMP:20260421T150249
CREATED:20220613T150546Z
LAST-MODIFIED:20220613T151920Z
UID:1885-1665100800-1665187199@www.dcprep.org
SUMMARY:Schools Closed: Data Day 1
DESCRIPTION:No school for students; faculty PD
URL:https://www.dcprep.org/calendar/schools-closed-data-day-1-2/
CATEGORIES:School Closing
END:VEVENT
BEGIN:VEVENT
DTSTART;VALUE=DATE:20221010
DTEND;VALUE=DATE:20221011
DTSTAMP:20260421T150249
CREATED:20220613T150647Z
LAST-MODIFIED:20220728T134827Z
UID:1888-1665360000-1665446399@www.dcprep.org
SUMMARY:Schools and Home Office Closed: Indigenous Peoples Day
DESCRIPTION:
URL:https://www.dcprep.org/calendar/schools-and-home-office-closed-indigenous-peoples-day-2/
CATEGORIES:School Closing
END:VEVENT
BEGIN:VEVENT
DTSTART;VALUE=DATE:20221019
DTEND;VALUE=DATE:20221020
DTSTAMP:20260421T150249
CREATED:20220728T134922Z
LAST-MODIFIED:20220728T134922Z
UID:1972-1666137600-1666223999@www.dcprep.org
SUMMARY:Staff Wellness Wednesday
DESCRIPTION:Wellness Wednesday: 2:00 PM dismissal for campus staff
URL:https://www.dcprep.org/calendar/staff-wellness-wednesday-2/
END:VEVENT
BEGIN:VEVENT
DTSTART;VALUE=DATE:20221020
DTEND;VALUE=DATE:20221021
DTSTAMP:20260421T150249
CREATED:20220816T164132Z
LAST-MODIFIED:20220816T164132Z
UID:2076-1666224000-1666310399@www.dcprep.org
SUMMARY:Unity Day (All Campuses)
DESCRIPTION:
URL:https://www.dcprep.org/calendar/unity-day-all-campuses/
END:VEVENT
BEGIN:VEVENT
DTSTART;VALUE=DATE:20221024
DTEND;VALUE=DATE:20221025
DTSTAMP:20260421T150249
CREATED:20220728T135031Z
LAST-MODIFIED:20220728T135031Z
UID:1974-1666569600-1666655999@www.dcprep.org
SUMMARY:EEC & EMC Picture Day
DESCRIPTION:
URL:https://www.dcprep.org/calendar/eec-emc-picture-day/
END:VEVENT
BEGIN:VEVENT
DTSTART;VALUE=DATE:20221025
DTEND;VALUE=DATE:20221026
DTSTAMP:20260421T150249
CREATED:20220816T164257Z
LAST-MODIFIED:20220816T164257Z
UID:2079-1666656000-1666742399@www.dcprep.org
SUMMARY:7th Grade High School Placement & Family Learning Night (BMC\, EMC)
DESCRIPTION:
URL:https://www.dcprep.org/calendar/7th-grade-high-school-placement-family-learning-night-bmc-emc/
CATEGORIES:Family Event
END:VEVENT
BEGIN:VEVENT
DTSTART;VALUE=DATE:20221026
DTEND;VALUE=DATE:20221027
DTSTAMP:20260421T150249
CREATED:20220816T164328Z
LAST-MODIFIED:20220816T164328Z
UID:2082-1666742400-1666828799@www.dcprep.org
SUMMARY:Community Meeting (BMC\, EMC)
DESCRIPTION:
URL:https://www.dcprep.org/calendar/community-meeting-bmc-emc-2/
END:VEVENT
BEGIN:VEVENT
DTSTART;VALUE=DATE:20221028
DTEND;VALUE=DATE:20221029
DTSTAMP:20260421T150249
CREATED:20220728T135053Z
LAST-MODIFIED:20220728T135053Z
UID:1976-1666915200-1667001599@www.dcprep.org
SUMMARY:BEC & BMC Picture Day
DESCRIPTION:
URL:https://www.dcprep.org/calendar/bec-bmc-picture-day/
END:VEVENT
BEGIN:VEVENT
DTSTART;VALUE=DATE:20221028
DTEND;VALUE=DATE:20221029
DTSTAMP:20260421T150249
CREATED:20220816T164419Z
LAST-MODIFIED:20220816T164419Z
UID:2086-1666915200-1667001599@www.dcprep.org
SUMMARY:Community Meeting (AEC\, AMC\, BEC\, EEC)
DESCRIPTION:
URL:https://www.dcprep.org/calendar/community-meeting-aec-amc-bec-eec-2/
END:VEVENT
BEGIN:VEVENT
DTSTART;VALUE=DATE:20221031
DTEND;VALUE=DATE:20221101
DTSTAMP:20260421T150249
CREATED:20220816T164443Z
LAST-MODIFIED:20221012T161154Z
UID:2088-1667174400-1667260799@www.dcprep.org
SUMMARY:Book-o-ween (All Campuses)
DESCRIPTION:
URL:https://www.dcprep.org/calendar/book-o-ween-all-campuses/
LOCATION:All Campuses
END:VEVENT
END:VCALENDAR