BEGIN:VCALENDAR
VERSION:2.0
PRODID:-//DC Prep - ECPv6.15.14//NONSGML v1.0//EN
CALSCALE:GREGORIAN
METHOD:PUBLISH
X-WR-CALNAME:DC Prep
X-ORIGINAL-URL:https://www.dcprep.org
X-WR-CALDESC:Events for DC Prep
REFRESH-INTERVAL;VALUE=DURATION:PT1H
X-Robots-Tag:noindex
X-PUBLISHED-TTL:PT1H
BEGIN:VTIMEZONE
TZID:America/New_York
BEGIN:DAYLIGHT
TZOFFSETFROM:-0500
TZOFFSETTO:-0400
TZNAME:EDT
DTSTART:20220313T070000
END:DAYLIGHT
BEGIN:STANDARD
TZOFFSETFROM:-0400
TZOFFSETTO:-0500
TZNAME:EST
DTSTART:20221106T060000
END:STANDARD
BEGIN:DAYLIGHT
TZOFFSETFROM:-0500
TZOFFSETTO:-0400
TZNAME:EDT
DTSTART:20230312T070000
END:DAYLIGHT
BEGIN:STANDARD
TZOFFSETFROM:-0400
TZOFFSETTO:-0500
TZNAME:EST
DTSTART:20231105T060000
END:STANDARD
BEGIN:DAYLIGHT
TZOFFSETFROM:-0500
TZOFFSETTO:-0400
TZNAME:EDT
DTSTART:20240310T070000
END:DAYLIGHT
BEGIN:STANDARD
TZOFFSETFROM:-0400
TZOFFSETTO:-0500
TZNAME:EST
DTSTART:20241103T060000
END:STANDARD
END:VTIMEZONE
BEGIN:VEVENT
DTSTART;VALUE=DATE:20231103
DTEND;VALUE=DATE:20231104
DTSTAMP:20260420T163606
CREATED:20230811T191842Z
LAST-MODIFIED:20230811T191842Z
UID:2676-1698969600-1699055999@www.dcprep.org
SUMMARY:8th Grade Mock Interview Day (BMC\, EMC)
DESCRIPTION:
URL:https://www.dcprep.org/calendar/8th-grade-mock-interview-day-bmc-emc/
END:VEVENT
BEGIN:VEVENT
DTSTART;VALUE=DATE:20231103
DTEND;VALUE=DATE:20231104
DTSTAMP:20260420T163606
CREATED:20230811T191911Z
LAST-MODIFIED:20230811T191911Z
UID:2678-1698969600-1699055999@www.dcprep.org
SUMMARY:End of Quarter 1
DESCRIPTION:
URL:https://www.dcprep.org/calendar/end-of-quarter-1-3/
CATEGORIES:End of Quarter
END:VEVENT
BEGIN:VEVENT
DTSTART;VALUE=DATE:20231106
DTEND;VALUE=DATE:20231107
DTSTAMP:20260420T163606
CREATED:20230811T190422Z
LAST-MODIFIED:20230811T190422Z
UID:2661-1699228800-1699315199@www.dcprep.org
SUMMARY:Beginning of Quarter 2
DESCRIPTION:
URL:https://www.dcprep.org/calendar/beginning-of-quarter-2-2/
CATEGORIES:Beginning of Quarter
END:VEVENT
BEGIN:VEVENT
DTSTART;VALUE=DATE:20231110
DTEND;VALUE=DATE:20231111
DTSTAMP:20260420T163606
CREATED:20230802T173540Z
LAST-MODIFIED:20230802T173540Z
UID:2572-1699574400-1699660799@www.dcprep.org
SUMMARY:Schools & Home Office Closed: Veteran's Day
DESCRIPTION:
URL:https://www.dcprep.org/calendar/schools-home-office-closed-veterans-day/
CATEGORIES:School Closing
END:VEVENT
BEGIN:VEVENT
DTSTART;VALUE=DATE:20231114
DTEND;VALUE=DATE:20231115
DTSTAMP:20260420T163606
CREATED:20230811T191951Z
LAST-MODIFIED:20230811T192013Z
UID:2680-1699920000-1700006399@www.dcprep.org
SUMMARY:7th Grade High School Kick-Off (EMC)
DESCRIPTION:
URL:https://www.dcprep.org/calendar/7th-grade-high-school-kick-off-emc/
END:VEVENT
BEGIN:VEVENT
DTSTART;VALUE=DATE:20231115
DTEND;VALUE=DATE:20231116
DTSTAMP:20260420T163606
CREATED:20230811T181207Z
LAST-MODIFIED:20230811T181309Z
UID:2615-1700006400-1700092799@www.dcprep.org
SUMMARY:Staff Wellness Wednesday
DESCRIPTION:Wellness Wednesday; 2:15pm dismissal for campus staff
URL:https://www.dcprep.org/calendar/staff-wellness-wednesday-12/
END:VEVENT
BEGIN:VEVENT
DTSTART;VALUE=DATE:20231116
DTEND;VALUE=DATE:20231117
DTSTAMP:20260420T163606
CREATED:20230811T192114Z
LAST-MODIFIED:20230811T192127Z
UID:2682-1700092800-1700179199@www.dcprep.org
SUMMARY:7th Grade High School Kick-Off (AMC\, BMC)
DESCRIPTION:
URL:https://www.dcprep.org/calendar/7th-grade-high-school-kick-off-amc-bmc/
END:VEVENT
BEGIN:VEVENT
DTSTART;VALUE=DATE:20231122
DTEND;VALUE=DATE:20231125
DTSTAMP:20260420T163606
CREATED:20230802T173630Z
LAST-MODIFIED:20230802T173630Z
UID:2574-1700611200-1700870399@www.dcprep.org
SUMMARY:Schools & Home Office Closed: Thanksgiving Break
DESCRIPTION:
URL:https://www.dcprep.org/calendar/schools-home-office-closed-thanksgiving-break/
CATEGORIES:School Closing
END:VEVENT
END:VCALENDAR