BEGIN:VCALENDAR
VERSION:2.0
PRODID:-//DC Prep - ECPv6.15.14//NONSGML v1.0//EN
CALSCALE:GREGORIAN
METHOD:PUBLISH
X-WR-CALNAME:DC Prep
X-ORIGINAL-URL:https://www.dcprep.org
X-WR-CALDESC:Events for DC Prep
REFRESH-INTERVAL;VALUE=DURATION:PT1H
X-Robots-Tag:noindex
X-PUBLISHED-TTL:PT1H
BEGIN:VTIMEZONE
TZID:America/New_York
BEGIN:DAYLIGHT
TZOFFSETFROM:-0500
TZOFFSETTO:-0400
TZNAME:EDT
DTSTART:20230312T070000
END:DAYLIGHT
BEGIN:STANDARD
TZOFFSETFROM:-0400
TZOFFSETTO:-0500
TZNAME:EST
DTSTART:20231105T060000
END:STANDARD
BEGIN:DAYLIGHT
TZOFFSETFROM:-0500
TZOFFSETTO:-0400
TZNAME:EDT
DTSTART:20240310T070000
END:DAYLIGHT
BEGIN:STANDARD
TZOFFSETFROM:-0400
TZOFFSETTO:-0500
TZNAME:EST
DTSTART:20241103T060000
END:STANDARD
BEGIN:DAYLIGHT
TZOFFSETFROM:-0500
TZOFFSETTO:-0400
TZNAME:EDT
DTSTART:20250309T070000
END:DAYLIGHT
BEGIN:STANDARD
TZOFFSETFROM:-0400
TZOFFSETTO:-0500
TZNAME:EST
DTSTART:20251102T060000
END:STANDARD
END:VTIMEZONE
BEGIN:VEVENT
DTSTART;VALUE=DATE:20240306
DTEND;VALUE=DATE:20240307
DTSTAMP:20260420T111121
CREATED:20230811T184619Z
LAST-MODIFIED:20230811T184619Z
UID:2639-1709683200-1709769599@www.dcprep.org
SUMMARY:Family Teacher Conferences
DESCRIPTION:
URL:https://www.dcprep.org/calendar/family-teacher-conferences-2/
CATEGORIES:Family Student Teacher Conferences
END:VEVENT
BEGIN:VEVENT
DTSTART;VALUE=DATE:20240320
DTEND;VALUE=DATE:20240321
DTSTAMP:20260420T111121
CREATED:20230811T182657Z
LAST-MODIFIED:20230811T182807Z
UID:2623-1710892800-1710979199@www.dcprep.org
SUMMARY:Staff Wellness Wednesday
DESCRIPTION:Wellness Wednesday; 2:15pm dismissal for campus staff
URL:https://www.dcprep.org/calendar/staff-wellness-wednesday-16/
END:VEVENT
BEGIN:VEVENT
DTSTART;VALUE=DATE:20240329
DTEND;VALUE=DATE:20240330
DTSTAMP:20260420T111121
CREATED:20230811T184306Z
LAST-MODIFIED:20230811T184545Z
UID:2637-1711670400-1711756799@www.dcprep.org
SUMMARY:Schools Closed: Data Day 3
DESCRIPTION:Data Day 3: No School for Students; Faculty PD
URL:https://www.dcprep.org/calendar/schools-closed-data-day-3-3/
CATEGORIES:School Closing
END:VEVENT
END:VCALENDAR