BEGIN:VCALENDAR
VERSION:2.0
PRODID:-//DC Prep - ECPv6.15.14//NONSGML v1.0//EN
CALSCALE:GREGORIAN
METHOD:PUBLISH
X-ORIGINAL-URL:https://www.dcprep.org
X-WR-CALDESC:Events for DC Prep
REFRESH-INTERVAL;VALUE=DURATION:PT1H
X-Robots-Tag:noindex
X-PUBLISHED-TTL:PT1H
BEGIN:VTIMEZONE
TZID:America/New_York
BEGIN:DAYLIGHT
TZOFFSETFROM:-0500
TZOFFSETTO:-0400
TZNAME:EDT
DTSTART:20230312T070000
END:DAYLIGHT
BEGIN:STANDARD
TZOFFSETFROM:-0400
TZOFFSETTO:-0500
TZNAME:EST
DTSTART:20231105T060000
END:STANDARD
BEGIN:DAYLIGHT
TZOFFSETFROM:-0500
TZOFFSETTO:-0400
TZNAME:EDT
DTSTART:20240310T070000
END:DAYLIGHT
BEGIN:STANDARD
TZOFFSETFROM:-0400
TZOFFSETTO:-0500
TZNAME:EST
DTSTART:20241103T060000
END:STANDARD
BEGIN:DAYLIGHT
TZOFFSETFROM:-0500
TZOFFSETTO:-0400
TZNAME:EDT
DTSTART:20250309T070000
END:DAYLIGHT
BEGIN:STANDARD
TZOFFSETFROM:-0400
TZOFFSETTO:-0500
TZNAME:EST
DTSTART:20251102T060000
END:STANDARD
END:VTIMEZONE
BEGIN:VEVENT
DTSTART;VALUE=DATE:20240822
DTEND;VALUE=DATE:20240823
DTSTAMP:20260420T073933
CREATED:20240716T132012Z
LAST-MODIFIED:20240716T132012Z
UID:3183-1724284800-1724371199@www.dcprep.org
SUMMARY:Family Orientation (SY24-25)
DESCRIPTION:Family orientations for all grades at all campuses.
URL:https://www.dcprep.org/calendar/family-orientation-sy24-25/
CATEGORIES:Family Event
END:VEVENT
BEGIN:VEVENT
DTSTART;VALUE=DATE:20240826
DTEND;VALUE=DATE:20240827
DTSTAMP:20260420T073933
CREATED:20240402T145214Z
LAST-MODIFIED:20240402T145239Z
UID:3000-1724630400-1724716799@www.dcprep.org
SUMMARY:First Day of School (SY24-25)
DESCRIPTION:First day of School Year 2024-25; Beginning of Q1. \nPrep Week for PK-3 and PK-4 Monday-Thursday (two half days per child); full day on Friday.
URL:https://www.dcprep.org/calendar/first-day-of-school-sy24-25/
CATEGORIES:Beginning of Quarter
END:VEVENT
END:VCALENDAR